BEGIN:VCALENDAR
VERSION:2.0
PRODID:-//pretix//TkkrLab_events//
BEGIN:VTIMEZONE
TZID:Europe/Amsterdam
BEGIN:STANDARD
DTSTART:20001029T030000
RRULE:FREQ=YEARLY;BYDAY=-1SU;BYMONTH=10
TZNAME:CET
TZOFFSETFROM:+0200
TZOFFSETTO:+0100
END:STANDARD
BEGIN:DAYLIGHT
DTSTART:20000326T020000
RRULE:FREQ=YEARLY;BYDAY=-1SU;BYMONTH=3
TZNAME:CEST
TZOFFSETFROM:+0100
TZOFFSETTO:+0200
END:DAYLIGHT
END:VTIMEZONE
BEGIN:VEVENT
UID:pretix-TkkrLab-hjqpn-0@tickets.tkkrlab.space
DTSTART;TZID=Europe/Amsterdam:20251114T190000
DESCRIPTION:Tickets: https://tickets.tkkrlab.space/TkkrLab/hjqpn/\nOrganize
 r: TkkrLab
DTSTAMP:20260422T103557Z
LOCATION:LET OP niet bij TkkrLab :\, The ShortCut / Creative broedplaats En
 schede\, De Klomp 122\, Enschede
SUMMARY:Upgrade windows 10 naar linux mint
END:VEVENT
END:VCALENDAR
